BEGIN:VCALENDAR
VERSION:2.0
PRODID:-//Festhalle Oberbruch - ECPv6.15.18//NONSGML v1.0//EN
CALSCALE:GREGORIAN
METHOD:PUBLISH
X-ORIGINAL-URL:https://festhalle-oberbruch.com
X-WR-CALDESC:Veranstaltungen für Festhalle Oberbruch
REFRESH-INTERVAL;VALUE=DURATION:PT1H
X-Robots-Tag:noindex
X-PUBLISHED-TTL:PT1H
BEGIN:VTIMEZONE
TZID:Europe/Berlin
BEGIN:DAYLIGHT
TZOFFSETFROM:+0100
TZOFFSETTO:+0200
TZNAME:CEST
DTSTART:20250330T010000
END:DAYLIGHT
BEGIN:STANDARD
TZOFFSETFROM:+0200
TZOFFSETTO:+0100
TZNAME:CET
DTSTART:20251026T010000
END:STANDARD
BEGIN:DAYLIGHT
TZOFFSETFROM:+0100
TZOFFSETTO:+0200
TZNAME:CEST
DTSTART:20260329T010000
END:DAYLIGHT
BEGIN:STANDARD
TZOFFSETFROM:+0200
TZOFFSETTO:+0100
TZNAME:CET
DTSTART:20261025T010000
END:STANDARD
BEGIN:DAYLIGHT
TZOFFSETFROM:+0100
TZOFFSETTO:+0200
TZNAME:CEST
DTSTART:20270328T010000
END:DAYLIGHT
BEGIN:STANDARD
TZOFFSETFROM:+0200
TZOFFSETTO:+0100
TZNAME:CET
DTSTART:20271031T010000
END:STANDARD
END:VTIMEZONE
BEGIN:VEVENT
DTSTART;TZID=Europe/Berlin:20260308T150000
DTEND;TZID=Europe/Berlin:20260308T150000
DTSTAMP:20260422T124315
CREATED:20251117T092617Z
LAST-MODIFIED:20251117T092622Z
UID:2068-1772982000-1772982000@festhalle-oberbruch.com
SUMMARY:WI'ERTSCHAFTSWONGER (Wirtschaftswunder)
DESCRIPTION:Langbröker Selfkanttheater: Eine Komödie in drei Akten
URL:https://festhalle-oberbruch.com/event/wiertschaftswonger-wirtschaftswunder-2/
LOCATION:Festhalle Oberbruch\, Carl-Diem-Straße 6\, 52525 Heinsberg
ATTACH;FMTTYPE=image/jpeg:https://festhalle-oberbruch.com/wp-content/uploads/2025/11/langbroek.jpg
END:VEVENT
END:VCALENDAR